BEGIN:VCALENDAR
METHOD:PUBLISH
PRODID:www-tf-fau-de//Events//DE
VERSION:2.0
BEGIN:VEVENT
SUMMARY:WW Kolloquium: Probing the complex liquid solid interfaces of 
 battery materials with correlative in-situ liquid cell TEM and cryogen
 ic APT
UID:207e-57de-3f6c-31195@www.tf.fau.de
DESCRIPTION:Dr. Michele Conroy Imperial College London\, UK Probing th
 e complex liquid solid interfaces of battery materials with correlativ
 e in-situ liquid cell TEM and cryogenic APT Inviting: Prof. E. Spiecke
 r\, Prof. C. Brabec\, Prof. W. Heiß\, Prof. M. Halik Zoom: meeting-ID
 : 691 5465 0178 code: 842126
DTSTART:20250128T160000Z
DTEND:20250128T180000Z
LOCATION:H14 / Zoom
DTSTAMP:20260421T101102Z
END:VEVENT
END:VCALENDAR